BEGIN:VCALENDAR
VERSION:2.0
PRODID:-//wellingtongreens.net//NONSGML kigkonsult.se iCalcreator 2.30.10//
CALSCALE:GREGORIAN
METHOD:PUBLISH
UID:eeb0941a-fead-4f91-b689-80b81647e0ad
X-WR-CALDESC:
X-WR-RELCALID:2b5fb9fa60695a5178a8f09d132f58db
X-WR-TIMEZONE:America/Chicago
BEGIN:VTIMEZONE
TZID:America/Chicago
BEGIN:STANDARD
TZNAME:CST
DTSTART:20251102T020000
TZOFFSETFROM:-0500
TZOFFSETTO:-0600
RDATE:20261101T020000
END:STANDARD
BEGIN:DAYLIGHT
TZNAME:CDT
DTSTART:20260308T020000
TZOFFSETFROM:-0600
TZOFFSETTO:-0500
RDATE:20270314T020000
END:DAYLIGHT
END:VTIMEZONE
BEGIN:VEVENT
UID:c923325a-e88e-49aa-9b95-07dbcd0316e3
DTSTAMP:20260422T024234Z
DESCRIPTION:
DTSTART;TZID=America/Chicago:20260425T170000
DTEND;TZID=America/Chicago:20260425T220000
LOCATION:7410 Old Post Road\, Unit No 7\, Lincoln\, NE 68506\, USA\, NE 685
 06 US
SUMMARY:Clubhouse rented 5 pm to 10 pm
END:VEVENT
END:VCALENDAR
