BEGIN:VCALENDAR
VERSION:2.0
PRODID:-//wellingtongreens.net//NONSGML kigkonsult.se iCalcreator 2.30.10//
CALSCALE:GREGORIAN
METHOD:PUBLISH
UID:3f446d8e-ea27-473e-80a0-1fdf452ccc40
X-WR-CALDESC:
X-WR-RELCALID:3a9d5fec25836453a0a0d7ea6574a6b0
X-WR-TIMEZONE:America/Chicago
BEGIN:VTIMEZONE
TZID:America/Chicago
BEGIN:STANDARD
TZNAME:CST
DTSTART:20251102T020000
TZOFFSETFROM:-0500
TZOFFSETTO:-0600
RDATE:20261101T020000
END:STANDARD
BEGIN:DAYLIGHT
TZNAME:CDT
DTSTART:20260308T020000
TZOFFSETFROM:-0600
TZOFFSETTO:-0500
RDATE:20270314T020000
END:DAYLIGHT
END:VTIMEZONE
BEGIN:VEVENT
UID:a2950ede-399a-400e-b9bf-26b0ff9a1534
DTSTAMP:20260423T085947Z
DESCRIPTION:
DTSTART;TZID=America/Chicago:20260427T163000
DTEND;TZID=America/Chicago:20260427T183000
LOCATION:7410 Old Post Road\, Unit No 7\, Lincoln\, NE 68506\, USA\, NE 685
 06 US
SUMMARY:Pitch Card Games - Open to all WG residents and guests
END:VEVENT
END:VCALENDAR
