BEGIN:VCALENDAR
VERSION:2.0
PRODID:-//wellingtongreens.net//NONSGML kigkonsult.se iCalcreator 2.30.10//
CALSCALE:GREGORIAN
METHOD:PUBLISH
UID:021a56cd-bd3e-4194-8743-ff1d445e93b2
X-WR-CALDESC:
X-WR-RELCALID:76ad650f26b9435dbc42456bb7aa25f1
X-WR-TIMEZONE:America/Chicago
BEGIN:VTIMEZONE
TZID:America/Chicago
BEGIN:STANDARD
TZNAME:CST
DTSTART:20251102T020000
TZOFFSETFROM:-0500
TZOFFSETTO:-0600
RDATE:20261101T020000
END:STANDARD
BEGIN:DAYLIGHT
TZNAME:CDT
DTSTART:20260308T020000
TZOFFSETFROM:-0600
TZOFFSETTO:-0500
RDATE:20270314T020000
END:DAYLIGHT
END:VTIMEZONE
BEGIN:VEVENT
UID:fb3e278d-c7ed-4249-9c63-5e0470be6079
DTSTAMP:20260424T011243Z
DESCRIPTION:
DTSTART;TZID=America/Chicago:20260502T170000
DTEND;TZID=America/Chicago:20260502T230000
LOCATION:7410 Old Post Road\, Unit No 7\, Lincoln\, NE 68506\, USA\, NE 685
 06 US
SUMMARY:clubhouse rented 5 pm to 11 pm
END:VEVENT
END:VCALENDAR
